BEGIN:VCALENDAR
VERSION:2.0
PRODID:GIGPRESS 2.0 WORDPRESS PLUGIN
CALSCALE:GREGORIAN
X-WR-TIMEZONE:Etc/GMT
METHOD:PUBLISH
BEGIN:VTIMEZONE
TZID:GMT
BEGIN:STANDARD
DTSTART:20071028T010000
TZOFFSETTO:+0000
TZOFFSETFROM:+0000
END:STANDARD
END:VTIMEZONE
BEGIN:VEVENT
SUMMARY:Trace Bundy at MIM Music Theater
DESCRIPTION:Notes: <b>7:30pm (doors at 7:00pm)</b>  <br>Trace Bundy returns to the MIM in Phoenix!  <br>(480) 478-6000. ALL AGES  <br>Tickets:  <br>$49 Premium Seats (best front area seats)  <br>$38-$44 Standard Seats  <br>Buy tickets &amp\; choose seats HERE: &nbsp\;&nbsp\; 
LOCATION:MIM Music Theater\, 4725 E. Mayo Boulevard\, PHOENIX\, US
UID:20260529-465-tracebundy@mac.com
URL:https://tracebundy.com
DTSTART;VALUE=DATE;TZID=GMT:20260529
DTEND;VALUE=DATE;TZID=GMT:20260529
DTSTAMP:20260423T122529Z
END:VEVENT
END:VCALENDAR