BEGIN:VCALENDAR
VERSION:2.0
PRODID:GIGPRESS 2.0 WORDPRESS PLUGIN
CALSCALE:GREGORIAN
X-WR-TIMEZONE:Etc/GMT
METHOD:PUBLISH
BEGIN:VTIMEZONE
TZID:GMT
BEGIN:STANDARD
DTSTART:20071028T010000
TZOFFSETTO:+0000
TZOFFSETFROM:+0000
END:STANDARD
END:VTIMEZONE
BEGIN:VEVENT
SUMMARY:Trace Bundy at La Rosa
DESCRIPTION:Notes: <b>7:30pm (doors at 6:30pm)</b>  <br>Trace Bundy back Tucson\, AZ!  <br>(520) 222-9833  <br>NOTE: under 16 must be with parent or legal guardian  <br>Tickets:   <br>$46 Gold Circle (Front 6 rows of seats)  <br>$39 Rose Circle (Rows 7-10 of seats)  <br>$29 General Admission seating  <br>Buy tickets &amp\; choose sections HERE: &nbsp\;&nbsp\; 
LOCATION:La Rosa\, 800 N. Country Club Rd\, TUCSON\, US
UID:20260531-466-tracebundy@mac.com
URL:https://tracebundy.com
DTSTART;VALUE=DATE;TZID=GMT:20260531
DTEND;VALUE=DATE;TZID=GMT:20260531
DTSTAMP:20260423T122232Z
END:VEVENT
END:VCALENDAR